BEGIN:VCALENDAR
VERSION:2.0
PRODID:-//Stoffen Spektakel - ECPv6.15.17.1//NONSGML v1.0//EN
CALSCALE:GREGORIAN
METHOD:PUBLISH
X-ORIGINAL-URL:https://stoffenspektakel.nl/de/
X-WR-CALDESC:Veranstaltungen für Stoffen Spektakel
REFRESH-INTERVAL;VALUE=DURATION:PT1H
X-Robots-Tag:noindex
X-PUBLISHED-TTL:PT1H
BEGIN:VTIMEZONE
TZID:Europe/Paris
BEGIN:DAYLIGHT
TZOFFSETFROM:+0100
TZOFFSETTO:+0200
TZNAME:CEST
DTSTART:20250330T010000
END:DAYLIGHT
BEGIN:STANDARD
TZOFFSETFROM:+0200
TZOFFSETTO:+0100
TZNAME:CET
DTSTART:20251026T010000
END:STANDARD
BEGIN:DAYLIGHT
TZOFFSETFROM:+0100
TZOFFSETTO:+0200
TZNAME:CEST
DTSTART:20260329T010000
END:DAYLIGHT
BEGIN:STANDARD
TZOFFSETFROM:+0200
TZOFFSETTO:+0100
TZNAME:CET
DTSTART:20261025T010000
END:STANDARD
BEGIN:DAYLIGHT
TZOFFSETFROM:+0100
TZOFFSETTO:+0200
TZNAME:CEST
DTSTART:20270328T010000
END:DAYLIGHT
BEGIN:STANDARD
TZOFFSETFROM:+0200
TZOFFSETTO:+0100
TZNAME:CET
DTSTART:20271031T010000
END:STANDARD
END:VTIMEZONE
BEGIN:VEVENT
DTSTART;TZID=Europe/Paris:20260501T100000
DTEND;TZID=Europe/Paris:20260501T163000
DTSTAMP:20260424T203447
CREATED:20240118T101318Z
LAST-MODIFIED:20240118T101318Z
UID:6722-1777629600-1777653000@stoffenspektakel.nl
SUMMARY:Kerkrade (NL) Markt
DESCRIPTION:
URL:https://stoffenspektakel.nl/de/stoffenbeurs-agenda/kerkrade-nl-markt/
LOCATION:Kerkrade\, Kerkrade Markt\, Kerkrade\, 6461EB\, Nederland
CATEGORIES:Niederlande
ATTACH;FMTTYPE=image/jpeg:https://stoffenspektakel.nl/wp-content/uploads/2024/01/Kerkrade-Markt.jpg
ORGANIZER;CN="Stoffen Spektakel":MAILTO:info@stoffenspektakel.nl
END:VEVENT
BEGIN:VEVENT
DTSTART;TZID=Europe/Paris:20260503T100000
DTEND;TZID=Europe/Paris:20260503T163000
DTSTAMP:20260424T203447
CREATED:20231211T133352Z
LAST-MODIFIED:20231211T133352Z
UID:6743-1777802400-1777825800@stoffenspektakel.nl
SUMMARY:Den Bosch (NL) Brabanthallen
DESCRIPTION:
URL:https://stoffenspektakel.nl/de/stoffenbeurs-agenda/den-bosch-nl-brabanthallen/
LOCATION:Den Bosch\, Diezerkade 2\, 's-Hertogenbosch\, 5222 AK\, Nederland
CATEGORIES:Niederlande
ATTACH;FMTTYPE=image/jpeg:https://stoffenspektakel.nl/wp-content/uploads/2023/12/Den-Bosch-1.jpg
ORGANIZER;CN="TST":MAILTO:info@proloris.nl
END:VEVENT
BEGIN:VEVENT
DTSTART;TZID=Europe/Paris:20260506T093000
DTEND;TZID=Europe/Paris:20260506T163000
DTSTAMP:20260424T203447
CREATED:20240118T095232Z
LAST-MODIFIED:20240731T043122Z
UID:6724-1778059800-1778085000@stoffenspektakel.nl
SUMMARY:Elburg (NL) Havenkade
DESCRIPTION:
URL:https://stoffenspektakel.nl/de/stoffenbeurs-agenda/elburg-nl-havenkade/
LOCATION:Elburg\, Havenkade\, Elburg\, Nederland
CATEGORIES:Niederlande
ATTACH;FMTTYPE=image/jpeg:https://stoffenspektakel.nl/wp-content/uploads/2024/01/Elburg-havenkade-uitgelicht-evenement.jpg
ORGANIZER;CN="Stoffen Spektakel":MAILTO:info@stoffenspektakel.nl
END:VEVENT
BEGIN:VEVENT
DTSTART;TZID=Europe/Paris:20260517T093000
DTEND;TZID=Europe/Paris:20260517T163000
DTSTAMP:20260424T203447
CREATED:20231212T054022Z
LAST-MODIFIED:20231212T054022Z
UID:6740-1779010200-1779035400@stoffenspektakel.nl
SUMMARY:Groningen (NL) Martiniplaza
DESCRIPTION:
URL:https://stoffenspektakel.nl/de/stoffenbeurs-agenda/groningen-nl-martiniplaza/
LOCATION:Groningen\, Leonard Springerlaan 2\, Groningen\, 9727KB\, Nederland
CATEGORIES:Niederlande
ATTACH;FMTTYPE=image/jpeg:https://stoffenspektakel.nl/wp-content/uploads/2023/12/Groningen.jpg
ORGANIZER;CN="Stoffen Spektakel":MAILTO:info@stoffenspektakel.nl
END:VEVENT
BEGIN:VEVENT
DTSTART;TZID=Europe/Paris:20260519T093000
DTEND;TZID=Europe/Paris:20260519T163000
DTSTAMP:20260424T203447
CREATED:20240118T095620Z
LAST-MODIFIED:20240118T095620Z
UID:6699-1779183000-1779208200@stoffenspektakel.nl
SUMMARY:Gouda (NL) Markt
DESCRIPTION:
URL:https://stoffenspektakel.nl/de/stoffenbeurs-agenda/gouda-nl-markt/
LOCATION:Gouda\, Markt 35\, Gouda\, 2801JK\, Nederland
CATEGORIES:Niederlande
ATTACH;FMTTYPE=image/jpeg:https://stoffenspektakel.nl/wp-content/uploads/2024/01/Gouda-NL-Markt.jpg
ORGANIZER;CN="Stoffen Spektakel":MAILTO:info@stoffenspektakel.nl
END:VEVENT
BEGIN:VEVENT
DTSTART;TZID=Europe/Paris:20260525T100000
DTEND;TZID=Europe/Paris:20260525T163000
DTSTAMP:20260424T203447
CREATED:20240118T094602Z
LAST-MODIFIED:20240118T094602Z
UID:6698-1779703200-1779726600@stoffenspektakel.nl
SUMMARY:Apeldoorn (NL) Marktplein
DESCRIPTION:
URL:https://stoffenspektakel.nl/de/stoffenbeurs-agenda/apeldoorn-nl-marktplein/
LOCATION:Apeldoorn\, Marktplein\, Apeldoorn\, 7311BH\, Nederland
CATEGORIES:Niederlande
ATTACH;FMTTYPE=image/jpeg:https://stoffenspektakel.nl/wp-content/uploads/2024/01/Apeldoorn-Marktplein.jpg
ORGANIZER;CN="Stoffen Spektakel":MAILTO:info@stoffenspektakel.nl
END:VEVENT
END:VCALENDAR