BEGIN:VCALENDAR
VERSION:2.0
PRODID:-//Stoffen Spektakel - ECPv6.15.17.1//NONSGML v1.0//EN
CALSCALE:GREGORIAN
METHOD:PUBLISH
X-WR-CALNAME:Stoffen Spektakel
X-ORIGINAL-URL:https://stoffenspektakel.nl/de/
X-WR-CALDESC:Veranstaltungen für Stoffen Spektakel
REFRESH-INTERVAL;VALUE=DURATION:PT1H
X-Robots-Tag:noindex
X-PUBLISHED-TTL:PT1H
BEGIN:VTIMEZONE
TZID:Europe/Paris
BEGIN:DAYLIGHT
TZOFFSETFROM:+0100
TZOFFSETTO:+0200
TZNAME:CEST
DTSTART:20250330T010000
END:DAYLIGHT
BEGIN:STANDARD
TZOFFSETFROM:+0200
TZOFFSETTO:+0100
TZNAME:CET
DTSTART:20251026T010000
END:STANDARD
BEGIN:DAYLIGHT
TZOFFSETFROM:+0100
TZOFFSETTO:+0200
TZNAME:CEST
DTSTART:20260329T010000
END:DAYLIGHT
BEGIN:STANDARD
TZOFFSETFROM:+0200
TZOFFSETTO:+0100
TZNAME:CET
DTSTART:20261025T010000
END:STANDARD
BEGIN:DAYLIGHT
TZOFFSETFROM:+0100
TZOFFSETTO:+0200
TZNAME:CEST
DTSTART:20270328T010000
END:DAYLIGHT
BEGIN:STANDARD
TZOFFSETFROM:+0200
TZOFFSETTO:+0100
TZNAME:CET
DTSTART:20271031T010000
END:STANDARD
END:VTIMEZONE
BEGIN:VTIMEZONE
TZID:UTC
BEGIN:STANDARD
TZOFFSETFROM:+0000
TZOFFSETTO:+0000
TZNAME:UTC
DTSTART:20250101T000000
END:STANDARD
END:VTIMEZONE
BEGIN:VEVENT
DTSTART;TZID=Europe/Paris:20260313T093000
DTEND;TZID=Europe/Paris:20260313T163000
DTSTAMP:20260424T202823
CREATED:20231212T054137Z
LAST-MODIFIED:20231212T054137Z
UID:6738-1773394200-1773419400@stoffenspektakel.nl
SUMMARY:Rotterdam (NL) Ahoy
DESCRIPTION:
URL:https://stoffenspektakel.nl/de/stoffenbeurs-agenda/rotterdam-nl-ahoy/
LOCATION:Rotterdam\, Ahoyweg 10\, Rotterdam\, 3084BA\, Nederland
CATEGORIES:Niederlande
ATTACH;FMTTYPE=image/jpeg:https://stoffenspektakel.nl/wp-content/uploads/2023/12/Rotterdam.jpg
ORGANIZER;CN="Stoffen Spektakel":MAILTO:info@stoffenspektakel.nl
END:VEVENT
BEGIN:VEVENT
DTSTART;TZID=UTC:20260318T093000
DTEND;TZID=UTC:20260318T163000
DTSTAMP:20260424T202823
CREATED:20240801T061503Z
LAST-MODIFIED:20240801T061650Z
UID:14406-1773826200-1773851400@stoffenspektakel.nl
SUMMARY:Hardenberg
DESCRIPTION:
URL:https://stoffenspektakel.nl/de/stoffenbeurs-agenda/hardenberg/
LOCATION:Hardenberg\, Energieweg 2\, Hardenberg\, Drenthe\, 7772 TV\, Nederland
CATEGORIES:Niederlande
ATTACH;FMTTYPE=image/jpeg:https://stoffenspektakel.nl/wp-content/uploads/2024/08/Evenementhal-Hardenberg.jpg
ORGANIZER;CN="Stoffen Spektakel":MAILTO:info@stoffenspektakel.nl
END:VEVENT
BEGIN:VEVENT
DTSTART;TZID=Europe/Paris:20260322T100000
DTEND;TZID=Europe/Paris:20260322T163000
DTSTAMP:20260424T202823
CREATED:20231212T054325Z
LAST-MODIFIED:20231212T054325Z
UID:6737-1774173600-1774197000@stoffenspektakel.nl
SUMMARY:Vijfhuizen (NL) Greater Amsterdam Expo (ehemals Expo Haarlemmermeer)
DESCRIPTION:
URL:https://stoffenspektakel.nl/de/stoffenbeurs-agenda/vijfhuizen-nl-greater-amsterdam-expo-ehemals-expo-haarlemmermeer/
LOCATION:Vijfhuizen\, De Stelling 1\, Vijfhuizen\, 2141SB\, Nederland
CATEGORIES:Niederlande
ATTACH;FMTTYPE=image/jpeg:https://stoffenspektakel.nl/wp-content/uploads/2023/12/Vijfhuizen.jpg
ORGANIZER;CN="Stoffen Spektakel":MAILTO:info@stoffenspektakel.nl
END:VEVENT
END:VCALENDAR